BEGIN:VCALENDAR
VERSION:2.0
PRODID:-//Nachrichten und Veranstaltungen für Jena | JenaMedia.de ✔︎ - ECPv6.15.20//NONSGML v1.0//EN
CALSCALE:GREGORIAN
METHOD:PUBLISH
X-WR-CALNAME:Nachrichten und Veranstaltungen für Jena | JenaMedia.de ✔︎
X-ORIGINAL-URL:https://jenamedia.de
X-WR-CALDESC:Veranstaltungen für Nachrichten und Veranstaltungen für Jena | JenaMedia.de ✔︎
REFRESH-INTERVAL;VALUE=DURATION:PT1H
X-Robots-Tag:noindex
X-PUBLISHED-TTL:PT1H
BEGIN:VTIMEZONE
TZID:Europe/Berlin
BEGIN:DAYLIGHT
TZOFFSETFROM:+0100
TZOFFSETTO:+0200
TZNAME:CEST
DTSTART:20250330T010000
END:DAYLIGHT
BEGIN:STANDARD
TZOFFSETFROM:+0200
TZOFFSETTO:+0100
TZNAME:CET
DTSTART:20251026T010000
END:STANDARD
BEGIN:DAYLIGHT
TZOFFSETFROM:+0100
TZOFFSETTO:+0200
TZNAME:CEST
DTSTART:20260329T010000
END:DAYLIGHT
BEGIN:STANDARD
TZOFFSETFROM:+0200
TZOFFSETTO:+0100
TZNAME:CET
DTSTART:20261025T010000
END:STANDARD
BEGIN:DAYLIGHT
TZOFFSETFROM:+0100
TZOFFSETTO:+0200
TZNAME:CEST
DTSTART:20270328T010000
END:DAYLIGHT
BEGIN:STANDARD
TZOFFSETFROM:+0200
TZOFFSETTO:+0100
TZNAME:CET
DTSTART:20271031T010000
END:STANDARD
END:VTIMEZONE
BEGIN:VEVENT
DTSTART;TZID=Europe/Berlin:20260422T180000
DTEND;TZID=Europe/Berlin:20260422T180000
DTSTAMP:20260422T014110
CREATED:20260309T201605Z
LAST-MODIFIED:20260309T201605Z
UID:10001577-1776880800-1776880800@jenamedia.de
SUMMARY:DJ-Workshop im Kassa vermittelt starkes Vinyl-Know-how
DESCRIPTION:DJ-Workshop im Kassablanca Jena: Platten drehen leicht verstehen\nMusikinteressierte und angehende DJs haben in Jena die Möglichkeit\, grundlegende Techniken des Auflegens kennenzulernen. Unter dem Titel „Platten drehen leicht verstehen“ lädt das Kulturzentrum Kassablanca Jena zu einem offenen DJ-Workshop ein. Die Veranstaltung beginnt um 18 Uhr\, der Eintritt ist frei. \nDas Format richtet sich sowohl an absolute Einsteiger als auch an Menschen mit ersten Erfahrungen an den Turntables. Im Mittelpunkt steht ein praktischer Zugang zum Auflegen mit Vinyl. Teilnehmer können gemeinsam ausprobieren\, Fragen stellen und sich über Technik sowie musikalische Grundlagen austauschen. \nDer Workshop soll einen niedrigschwelligen Einstieg in die Welt des DJ-Handwerks ermöglichen. Gleichzeitig bietet er Raum für vertiefende Gespräche über Mixing-Techniken\, Musikstile und die Kultur des Vinyl-Auflegens. \nGrundlagen des DJ-Handwerks verständlich erklärt\nWer sich erstmals mit dem Auflegen beschäftigt\, stößt schnell auf eine Reihe technischer Begriffe. Im Workshop werden zentrale Grundlagen verständlich erläutert und direkt praktisch angewendet. \nZu den Themen gehören unter anderem: \ndie Funktion des Pitch-Reglers \ndas Arbeiten mit Kopfhörern beim Mixen \nder Einsatz des Crossfaders \ndas Verständnis von BPM (Beats per Minute) \nDiese Elemente bilden die Basis für das Beatmatching\, also das rhythmische Angleichens zweier Musikstücke. Gerade für Anfänger wirkt die Technik zunächst komplex. Durch das gemeinsame Ausprobieren an den Plattenspielern sollen die Teilnehmer jedoch schnell ein Gefühl für die Abläufe entwickeln. \nDie Veranstaltung verfolgt dabei bewusst einen praxisorientierten Ansatz. Theorie wird nur so weit vermittelt\, wie sie für das Verständnis der praktischen Arbeit an den Turntables notwendig ist. \nOffener Workshop für Anfänger und Fortgeschrittene\nDer DJ-Workshop versteht sich nicht als klassischer Unterricht. Statt eines festen Lehrplans steht der gemeinsame Austausch im Vordergrund. \nEinsteiger erhalten Unterstützung beim Einstieg in die Grundlagen des Auflegens. Fortgeschrittene Teilnehmer können ihr Wissen vertiefen und sich über technische Details austauschen. \nDiese Mischung unterschiedlicher Erfahrungsstufen ist bewusst gewählt. Sie ermöglicht gegenseitiges Lernen und schafft eine offene Atmosphäre\, in der Fragen gestellt und Erfahrungen geteilt werden können. \nTypische Inhalte des Workshops können sein: \nGrundlagen des Vinyl-Mixings \nBeatmatching ohne digitale Hilfsmittel \nAufbau eines DJ-Sets \nAuswahl und Strukturierung von Tracks \nGerade das Auflegen mit Vinyl gilt für viele DJs als besonders anspruchsvoll\, da es ein gutes rhythmisches Gehör und präzises Arbeiten mit den Plattenspielern erfordert. \nPraktisches Arbeiten an den Turntables\nEin zentraler Bestandteil des Workshops ist die praktische Arbeit an den Plattenspielern. Die Teilnehmer können direkt ausprobieren\, wie zwei Tracks synchronisiert werden und welche Rolle dabei Pitch-Regler\, Kopfhörer und Crossfader spielen. \nDas gemeinsame Experimentieren steht im Mittelpunkt. Fehler sind dabei ausdrücklich erlaubt. Sie gelten als wichtiger Bestandteil des Lernprozesses. \nDurch die praktische Erfahrung entsteht ein besseres Verständnis für die technischen und musikalischen Aspekte des DJ-Handwerks. Gerade für Anfänger ist dieser Zugang besonders hilfreich\, da viele Abläufe erst beim eigenen Ausprobieren nachvollziehbar werden. \nDJ-Workshop im Kassa vermittelt starkes Vinyl-Know-how. Foto: Frank Liebold\, Jenafotografx\nVinylkultur als Teil der elektronischen Musikszene\nDer Workshop beschäftigt sich bewusst mit Vinyl als Musikformat. Trotz digitaler DJ-Technologien hat die Schallplatte in vielen Bereichen der Club- und Musikszene weiterhin einen besonderen Stellenwert. \nVinyl steht für eine bestimmte Form des Musikhörens und Auflegens. DJs arbeiten dabei mit physischen Tonträgern und müssen Tracks manuell synchronisieren. \nViele Künstler und Musikliebhaber schätzen an Vinyl: \nden analogen Klang \ndie haptische Erfahrung beim Auflegen \ndie bewusste Auswahl einzelner Tracks \ndie kulturelle Tradition des DJ-Handwerks \nDer Workshop bietet deshalb auch Raum für Gespräche über Musikgenres\, Plattensammlungen und die Rolle von Vinyl in der heutigen Musiklandschaft. \nLokale Plattenläden als Teil der Musikszene\nWer selbst Vinyl auflegen möchte\, benötigt natürlich auch passende Schallplatten. In Jena gibt es dafür spezialisierte Anlaufstellen. Eine bekannte Adresse ist der Plattenladen Fatplastics. \nDer Shop bietet eine Auswahl an elektronischer Musik auf Vinyl und ist in der regionalen Szene etabliert. Solche Läden spielen eine wichtige Rolle für DJs und Musikliebhaber\, da sie nicht nur Tonträger verkaufen\, sondern auch Treffpunkte für die lokale Community darstellen. \nDer Workshop im Kassablanca knüpft an diese Kultur an und unterstützt den Austausch zwischen Musikinteressierten\, DJs und Sammlern. \n\nDas dazugehörige Vinyl findet ihr z.B. hier: \n\n\nwww.fatplastics.com \n\n\nSchillergäßchen 5\n07745 Jena \n\n\n(03641) 35 38 00 \n\nHashtags#DJWorkshop#JenaEvents#VinylDJ#Kassablanca#MusikKultur \nGastgeber\, Kassa Jena | Foto\, Frank Liebold // Jenafotografx | Veranstaltungen im Eventkalender
URL:https://jenamedia.de/event/dj-workshop-im-kassa/2026-04-22/
LOCATION:Kassablanca Jena\, Felsenkellerstraße 13a\, Jena\, Thüringen\, 07745\, Germany
CATEGORIES:Veranstaltungen-Jena
ATTACH;FMTTYPE=image/jpeg:https://jenamedia.de/wp-content/uploads/2026/03/DSC_5781-Kopie.jpg
END:VEVENT
BEGIN:VEVENT
DTSTART;TZID=Europe/Berlin:20260422T193000
DTEND;TZID=Europe/Berlin:20260422T223000
DTSTAMP:20260422T014110
CREATED:20260322T143931Z
LAST-MODIFIED:20260322T143931Z
UID:10001600-1776886200-1776897000@jenamedia.de
SUMMARY:Bewegend: Stefan Schwarz LIVE am 22.04. im F-Haus Jena
DESCRIPTION:Stefan Schwarz LIVE im F-Haus Jena: Ein Abend zwischen Humor und Lebensmut\nAm 22. April 2026 erwartet das Publikum im F-Haus Jena ein außergewöhnlicher Live-Abend mit dem bekannten Autor und Kolumnisten Stefan Schwarz. Mit seinem aktuellen Programm „Bis ins Mark. Wie ich Krebs bekam und mein Leben aufräumte“ bringt er ein Thema auf die Bühne\, das tief berührt und gleichzeitig Raum für Humor\, Selbstironie und neue Perspektiven schafft. \nWenn das Leben plötzlich eine neue Richtung nimmt\nAls Stefan Schwarz Mitte fünfzig die Diagnose Krebs erhält\, verändert sich sein Leben grundlegend. Was zunächst nach einer existenziellen Krise klingt\, wird bei ihm zu einem überraschenden Wendepunkt. Als bekennender Hypochonder empfindet er die Diagnose fast als Erleichterung. Die jahrelange Angst vor einer schweren Erkrankung weicht einer Realität\, die nun greifbar ist. \nGenau hier setzt sein Buch an. Schwarz gelingt es\, die eigene Situation mit einem besonderen Blick zu betrachten. Er nimmt das Publikum mit auf eine Reise durch die Herausforderungen der Krankheit und die oft surreal wirkenden Abläufe der modernen Medizin. Gleichzeitig bleibt er sich treu. Sein unverwechselbarer Humor zieht sich wie ein roter Faden durch die Erzählung. \nJenaMedia – Veranstaltungstipp: \nOur Darkness Jena Legendäre Darkwave Party am 25.04.2026 im M-Pire Music Club Jena\nOur Darkness Jena Legendäre Darkwave Party im M-Pire. Fotografik Illustration via KI\nZwischen Selbstironie und schonungsloser Ehrlichkeit\nDas Besondere an Stefan Schwarz ist seine Fähigkeit\, selbst schwerste Themen mit Leichtigkeit zu erzählen. Dabei verliert er nie die Ernsthaftigkeit aus den Augen. Seine Geschichten sind ehrlich\, direkt und oft überraschend komisch. \nIn seinem Programm zeigt er nicht nur die äußeren Umstände der Krankheit\, sondern auch die inneren Konflikte. Zweifel\, Ängste und persönliche Niederlagen werden nicht ausgeblendet\, sondern bewusst angesprochen. Genau darin liegt die Stärke dieses Abends. Es geht nicht nur um Krankheit\, sondern um das Leben selbst. \nEine Reise in die eigene Vergangenheit\nNeben den medizinischen Erfahrungen wirft Schwarz auch einen Blick auf seine eigene Biografie. Er beleuchtet die prägenden Momente seines Lebens und hinterfragt die Ursachen seines Humors. Warum lachen wir über bestimmte Dinge. Und wie entstehen die Mechanismen\, die uns helfen\, mit schwierigen Situationen umzugehen. \nDiese Rückblicke machen den Abend besonders intensiv. Sie zeigen\, dass Humor oft aus Krisen entsteht und dass gerade in schweren Zeiten eine neue Sicht auf das Leben möglich ist. \nInspiration für Betroffene und Angehörige\nDas Programm ist weit mehr als eine persönliche Geschichte. Es bietet Orientierung und Mut für Menschen\, die sich in ähnlichen Lebenssituationen befinden. Stefan Schwarz gelingt es\, komplexe Gefühle verständlich zu machen und gleichzeitig Hoffnung zu vermitteln. \nSeine Erzählung ist eine Einladung\, sich mit den eigenen Ängsten auseinanderzusetzen und neue Wege zu finden. Dabei geht es nicht um einfache Lösungen\, sondern um ehrliche Einblicke und persönliche Entwicklung. \nEin besonderer Abend im F-Haus Jena\nDas F-Haus Jena bietet den idealen Rahmen für diese intensive Veranstaltung. Die bestuhlte Atmosphäre sorgt für Nähe und Konzentration auf das Wesentliche. Das Publikum kann sich auf einen Abend einstellen\, der gleichermaßen bewegt und unterhält. \nBewegend: Stefan Schwarz LIVE am 22.04. im F-Haus Jena. Foto: Stefanie Fiebrig // Fb-Eventbanner F-Haus\nVeranstaltungsdetails im Überblick\nDatum: 22. April 2026 \nEinlass: 18:30 Uhr \nBeginn: 19:30 Uhr \nOrt: F-Haus Jena \nBestuhlt: Ja \nTickets und Vorverkauf\nDie Nachfrage nach Veranstaltungen mit Stefan Schwarz ist erfahrungsgemäß hoch. Daher empfiehlt es sich\, frühzeitig Tickets zu sichern. Der Vorverkaufspreis liegt bei 31\,25 Euro. Tickets online bestellen: https://www.f-haus.de/cms/tickets-kaufen \nTickets sind online erhältlich und bieten die Möglichkeit\, sich diesen besonderen Abend rechtzeitig zu sichern. \nWarum sich dieser Abend lohnt\nStefan Schwarz schafft es\, ein sensibles Thema auf eine Weise zu präsentieren\, die sowohl berührt als auch stärkt. Seine Mischung aus Humor\, Tiefgang und persönlicher Offenheit macht diesen Abend zu einem einzigartigen Erlebnis. \nWer sich für Literatur\, persönliche Geschichten und die Kraft des Humors interessiert\, sollte sich diese Veranstaltung nicht entgehen lassen. Es ist ein Abend\, der zum Nachdenken anregt und gleichzeitig Mut macht. \nHashtags \n#StefanSchwarz #FHausJena #LiveLesung #KrebsundHumor #JenaEvents \nGastgeber\, F-Haus Jena | Foto: Stefanie Fiebrig // Fb-Eventbanner F-Haus | Veranstaltungen im Kalender
URL:https://jenamedia.de/event/bewegend-stefan-schwarz-in-jena/
LOCATION:F-Haus\, Johannisplatz 14\, Jena\, Thüringen\, 07743\, Germany
ATTACH;FMTTYPE=image/jpeg:https://jenamedia.de/wp-content/uploads/2026/03/628449301_1312950564201747_7474887964354639866_n.jpg
END:VEVENT
END:VCALENDAR