BEGIN:VCALENDAR
VERSION:2.0
PRODID:-//Nachrichten und Veranstaltungen für Jena | JenaMedia.de ✔︎ - ECPv6.15.20//NONSGML v1.0//EN
CALSCALE:GREGORIAN
METHOD:PUBLISH
X-WR-CALNAME:Nachrichten und Veranstaltungen für Jena | JenaMedia.de ✔︎
X-ORIGINAL-URL:https://jenamedia.de
X-WR-CALDESC:Veranstaltungen für Nachrichten und Veranstaltungen für Jena | JenaMedia.de ✔︎
REFRESH-INTERVAL;VALUE=DURATION:PT1H
X-Robots-Tag:noindex
X-PUBLISHED-TTL:PT1H
BEGIN:VTIMEZONE
TZID:Europe/Berlin
BEGIN:DAYLIGHT
TZOFFSETFROM:+0100
TZOFFSETTO:+0200
TZNAME:CEST
DTSTART:20250330T010000
END:DAYLIGHT
BEGIN:STANDARD
TZOFFSETFROM:+0200
TZOFFSETTO:+0100
TZNAME:CET
DTSTART:20251026T010000
END:STANDARD
BEGIN:DAYLIGHT
TZOFFSETFROM:+0100
TZOFFSETTO:+0200
TZNAME:CEST
DTSTART:20260329T010000
END:DAYLIGHT
BEGIN:STANDARD
TZOFFSETFROM:+0200
TZOFFSETTO:+0100
TZNAME:CET
DTSTART:20261025T010000
END:STANDARD
BEGIN:DAYLIGHT
TZOFFSETFROM:+0100
TZOFFSETTO:+0200
TZNAME:CEST
DTSTART:20270328T010000
END:DAYLIGHT
BEGIN:STANDARD
TZOFFSETFROM:+0200
TZOFFSETTO:+0100
TZNAME:CET
DTSTART:20271031T010000
END:STANDARD
END:VTIMEZONE
BEGIN:VEVENT
DTSTART;TZID=Europe/Berlin:20260325T193000
DTEND;TZID=Europe/Berlin:20260325T230000
DTSTAMP:20260425T013856
CREATED:20260307T151930Z
LAST-MODIFIED:20260307T151930Z
UID:10001566-1774467000-1774479600@jenamedia.de
SUMMARY:Welk & Ira Funesta: Dynamische Metalshow 25.03. Rose
DESCRIPTION:Welk & Ira Funesta LIVE am 25. März in der Rose Jena\nMetal- und Post-Metal-Konzert bringt internationale Szene nach Jena\nAm 25. März treten die Bands Welk und Ira Funesta in der Rose Jena auf. Das Konzert beginnt um 20 Uhr\, der Einlass ist ab 19.30 Uhr. Veranstaltungsort ist der alternative Kulturraum „Rose“ im Jenaer Stadtzentrum. Der Eintritt kostet an der Abendkasse 15 Euro. \nDer Konzertabend richtet sich insbesondere an Fans von Metal\, Hardcore und Post-Metal sowie an Besucherinnen und Besucher der alternativen Musikszene. Mit Welk aus Leipzig und Ira Funesta\, einer international besetzten Post-Metal-Band\, treffen zwei Gruppen aufeinander\, die unterschiedliche Strömungen moderner Heavy-Musik miteinander verbinden. \nKonzert in der Rose als Treffpunkt der alternativen Szene\nDie Rose Jena gehört zu den kleineren\, aber wichtigen Veranstaltungsorten der lokalen Subkultur. Konzerte in solchen Locations sind häufig eng mit der sogenannten DIY-Szene verbunden. Dabei organisieren Bands\, Veranstalter und Helfer viele Abläufe eigenständig und setzen auf eine enge Verbindung zwischen Künstlern und Publikum. \nDiese Struktur prägt seit vielen Jahren die alternative Musiklandschaft in vielen europäischen Städten. Besonders Genres wie Punk\, Hardcore oder Metal haben sich stark in solchen selbstorganisierten Netzwerken entwickelt. \nKonzerte in Räumen wie der Rose bieten lokalen Initiativen und internationalen Bands gleichermaßen eine Bühne. Gleichzeitig ermöglichen sie einen direkten Austausch zwischen Musikschaffenden und Zuhörenden. \nLeipziger Band Welk verbindet Metal\, Hardcore und Punk\nDen Hauptteil des Konzertabends gestaltet die Leipziger Band Welk. Die Gruppe verbindet in ihrer Musik verschiedene Einflüsse aus Metal\, Hardcore und Punk. Ergänzt wird dieser Stil durch eine bewusst melancholische Klangästhetik\, die sich in vielen ihrer Songs wiederfindet. \nWelk versteht sich als Teil der DIY-Musikszene und betont in ihrer Selbstbeschreibung die Bedeutung von Kreativität\, emotionalem Ausdruck und gegenseitigem Respekt innerhalb der Szene. Die Band positioniert sich außerdem klar gegen rassistische\, diskriminierende oder sexistische Strukturen. \nMusikalisch setzt Welk auf eine Mischung aus aggressiven Gitarrenriffs\, dynamischen Rhythmen und emotional geprägten Texten. Die Band hat bislang drei EPs sowie eine Split-Veröffentlichung mit einer anderen Gruppe veröffentlicht. \nDurch zahlreiche Live-Auftritte hat sich Welk in unterschiedlichen Konzertkontexten etabliert. Die Band spielt sowohl in kleinen Szeneclubs und autonomen Jugendzentren als auch auf größeren Bühnen oder Festivals. Diese Erfahrung prägt ihre energiegeladene Livepräsenz. \nIra Funesta bringt internationalen Post-Metal nach Jena\nAls zweite Band des Abends tritt Ira Funesta auf. Die Gruppe wurde im Jahr 2023 gegründet und vereint Musiker aus verschiedenen Ländern. Chris\, der für Gitarre und Gesang verantwortlich ist\, stammt aus Santa Cruz in den USA. Bassistin und Sängerin Lu kommt aus Italien\, während Schlagzeuger Tiago aus Portugal stammt. \nDer Sound von Ira Funesta bewegt sich im Bereich des Post-Metal. Dieses Genre zeichnet sich durch lange Songstrukturen\, atmosphärische Klangflächen und starke Dynamikwechsel aus. \nMusikalisch kombiniert die Band schwere\, langsame Passagen mit intensiven Ausbrüchen und emotional aufgeladenen Momenten. Diese Mischung erzeugt eine Klangwelt\, die sowohl düster als auch kathartisch wirkt. \nEinflüsse sieht die Band unter anderem bei bekannten Gruppen der Post-Metal- und Sludge-Szene. Dazu zählen Bands wie Isis\, Cult of Luna\, Amenra oder Neurosis\, die das Genre seit den frühen 2000er Jahren geprägt haben. \nDurch diese Inspirationsquellen entsteht ein Sound\, der zwischen schweren Gitarrenwänden\, atmosphärischen Soundlandschaften und emotionaler Intensität pendelt. \nWelk & Ira Funesta: Dynamische Metalshow 25.03. Rose\nMusikalische Begegnung verschiedener Heavy-Genres\nDer Konzertabend verbindet mehrere musikalische Strömungen der modernen Heavy-Musik. Während Welk stärker aus Hardcore- und Punktraditionen schöpft\, bewegt sich Ira Funesta im experimentelleren Post-Metal-Spektrum. \nSolche Kombinationen sind in der alternativen Konzertszene verbreitet. Sie ermöglichen es\, unterschiedliche Publikumsgruppen zusammenzubringen und musikalische Grenzbereiche sichtbar zu machen. \nZugleich spiegelt das Programm die Vielfalt aktueller Rock- und Metalentwicklungen wider. Neben klassischen Metalstrukturen spielen heute häufig auch Elemente aus Hardcore\, Sludge oder experimentellen Klangformen eine Rolle. \nDetails des Konzertabends\nDas Konzert mit Welk und Ira Funesta findet am Dienstag\, dem 25. März\, in der Rose Jena statt. Der Einlass beginnt um 19.30 Uhr. Der erste Auftritt startet um 20 Uhr. \nTickets sind ausschließlich an der Abendkasse erhältlich und kosten 15 Euro. Aufgrund der begrenzten Kapazität der Location empfiehlt sich ein frühzeitiges Erscheinen. \nDer Konzertabend richtet sich an Musikinteressierte aus Jena und der Region sowie an Besucherinnen und Besucher der alternativen Szene. \nHashtags#Jena#MetalKonzert#LiveMusik#PostMetal#DIYScene \nGastgeber\, Rosenkeller Jena | Veranstaltungen im Kalender
URL:https://jenamedia.de/event/welk-ira-funesta-metalshow-25-03-rose/
LOCATION:Rose Jena\, Johannisstraße 13\, Jena\, Thüringen\, 07743\, Germany
CATEGORIES:Veranstaltungen-Jena
ATTACH;FMTTYPE=image/jpeg:https://jenamedia.de/wp-content/uploads/2026/03/627632707_1335198991984843_3525295972217967460_n.jpg
END:VEVENT
BEGIN:VEVENT
DTSTART;TZID=Europe/Berlin:20260325T180000
DTEND;TZID=Europe/Berlin:20260325T200000
DTSTAMP:20260425T013856
CREATED:20260309T201605Z
LAST-MODIFIED:20260309T201605Z
UID:10001575-1774461600-1774468800@jenamedia.de
SUMMARY:DJ-Workshop im Kassa vermittelt starkes Vinyl-Know-how
DESCRIPTION:DJ-Workshop im Kassablanca Jena: Platten drehen leicht verstehen\nMusikinteressierte und angehende DJs haben in Jena die Möglichkeit\, grundlegende Techniken des Auflegens kennenzulernen. Unter dem Titel „Platten drehen leicht verstehen“ lädt das Kulturzentrum Kassablanca Jena zu einem offenen DJ-Workshop ein. Die Veranstaltung beginnt um 18 Uhr\, der Eintritt ist frei. \nDas Format richtet sich sowohl an absolute Einsteiger als auch an Menschen mit ersten Erfahrungen an den Turntables. Im Mittelpunkt steht ein praktischer Zugang zum Auflegen mit Vinyl. Teilnehmer können gemeinsam ausprobieren\, Fragen stellen und sich über Technik sowie musikalische Grundlagen austauschen. \nDer Workshop soll einen niedrigschwelligen Einstieg in die Welt des DJ-Handwerks ermöglichen. Gleichzeitig bietet er Raum für vertiefende Gespräche über Mixing-Techniken\, Musikstile und die Kultur des Vinyl-Auflegens. \nGrundlagen des DJ-Handwerks verständlich erklärt\nWer sich erstmals mit dem Auflegen beschäftigt\, stößt schnell auf eine Reihe technischer Begriffe. Im Workshop werden zentrale Grundlagen verständlich erläutert und direkt praktisch angewendet. \nZu den Themen gehören unter anderem: \ndie Funktion des Pitch-Reglers \ndas Arbeiten mit Kopfhörern beim Mixen \nder Einsatz des Crossfaders \ndas Verständnis von BPM (Beats per Minute) \nDiese Elemente bilden die Basis für das Beatmatching\, also das rhythmische Angleichens zweier Musikstücke. Gerade für Anfänger wirkt die Technik zunächst komplex. Durch das gemeinsame Ausprobieren an den Plattenspielern sollen die Teilnehmer jedoch schnell ein Gefühl für die Abläufe entwickeln. \nDie Veranstaltung verfolgt dabei bewusst einen praxisorientierten Ansatz. Theorie wird nur so weit vermittelt\, wie sie für das Verständnis der praktischen Arbeit an den Turntables notwendig ist. \nOffener Workshop für Anfänger und Fortgeschrittene\nDer DJ-Workshop versteht sich nicht als klassischer Unterricht. Statt eines festen Lehrplans steht der gemeinsame Austausch im Vordergrund. \nEinsteiger erhalten Unterstützung beim Einstieg in die Grundlagen des Auflegens. Fortgeschrittene Teilnehmer können ihr Wissen vertiefen und sich über technische Details austauschen. \nDiese Mischung unterschiedlicher Erfahrungsstufen ist bewusst gewählt. Sie ermöglicht gegenseitiges Lernen und schafft eine offene Atmosphäre\, in der Fragen gestellt und Erfahrungen geteilt werden können. \nTypische Inhalte des Workshops können sein: \nGrundlagen des Vinyl-Mixings \nBeatmatching ohne digitale Hilfsmittel \nAufbau eines DJ-Sets \nAuswahl und Strukturierung von Tracks \nGerade das Auflegen mit Vinyl gilt für viele DJs als besonders anspruchsvoll\, da es ein gutes rhythmisches Gehör und präzises Arbeiten mit den Plattenspielern erfordert. \nPraktisches Arbeiten an den Turntables\nEin zentraler Bestandteil des Workshops ist die praktische Arbeit an den Plattenspielern. Die Teilnehmer können direkt ausprobieren\, wie zwei Tracks synchronisiert werden und welche Rolle dabei Pitch-Regler\, Kopfhörer und Crossfader spielen. \nDas gemeinsame Experimentieren steht im Mittelpunkt. Fehler sind dabei ausdrücklich erlaubt. Sie gelten als wichtiger Bestandteil des Lernprozesses. \nDurch die praktische Erfahrung entsteht ein besseres Verständnis für die technischen und musikalischen Aspekte des DJ-Handwerks. Gerade für Anfänger ist dieser Zugang besonders hilfreich\, da viele Abläufe erst beim eigenen Ausprobieren nachvollziehbar werden. \nDJ-Workshop im Kassa vermittelt starkes Vinyl-Know-how. Foto: Frank Liebold\, Jenafotografx\nVinylkultur als Teil der elektronischen Musikszene\nDer Workshop beschäftigt sich bewusst mit Vinyl als Musikformat. Trotz digitaler DJ-Technologien hat die Schallplatte in vielen Bereichen der Club- und Musikszene weiterhin einen besonderen Stellenwert. \nVinyl steht für eine bestimmte Form des Musikhörens und Auflegens. DJs arbeiten dabei mit physischen Tonträgern und müssen Tracks manuell synchronisieren. \nViele Künstler und Musikliebhaber schätzen an Vinyl: \nden analogen Klang \ndie haptische Erfahrung beim Auflegen \ndie bewusste Auswahl einzelner Tracks \ndie kulturelle Tradition des DJ-Handwerks \nDer Workshop bietet deshalb auch Raum für Gespräche über Musikgenres\, Plattensammlungen und die Rolle von Vinyl in der heutigen Musiklandschaft. \nLokale Plattenläden als Teil der Musikszene\nWer selbst Vinyl auflegen möchte\, benötigt natürlich auch passende Schallplatten. In Jena gibt es dafür spezialisierte Anlaufstellen. Eine bekannte Adresse ist der Plattenladen Fatplastics. \nDer Shop bietet eine Auswahl an elektronischer Musik auf Vinyl und ist in der regionalen Szene etabliert. Solche Läden spielen eine wichtige Rolle für DJs und Musikliebhaber\, da sie nicht nur Tonträger verkaufen\, sondern auch Treffpunkte für die lokale Community darstellen. \nDer Workshop im Kassablanca knüpft an diese Kultur an und unterstützt den Austausch zwischen Musikinteressierten\, DJs und Sammlern. \n\nDas dazugehörige Vinyl findet ihr z.B. hier: \n\n\nwww.fatplastics.com \n\n\nSchillergäßchen 5\n07745 Jena \n\n\n(03641) 35 38 00 \n\nHashtags#DJWorkshop#JenaEvents#VinylDJ#Kassablanca#MusikKultur \nGastgeber\, Kassa Jena | Foto\, Frank Liebold // Jenafotografx | Veranstaltungen im Eventkalender
URL:https://jenamedia.de/event/dj-workshop-im-kassa/2026-03-25/
LOCATION:Kassablanca Jena\, Felsenkellerstraße 13a\, Jena\, Thüringen\, 07745\, Germany
CATEGORIES:Veranstaltungen-Jena
ATTACH;FMTTYPE=image/jpeg:https://jenamedia.de/wp-content/uploads/2026/03/DSC_5781-Kopie.jpg
END:VEVENT
END:VCALENDAR