BEGIN:VCALENDAR
VERSION:2.0
PRODID:-//Nachrichten und Veranstaltungen für Jena | JenaMedia.de ✔︎ - ECPv6.15.20//NONSGML v1.0//EN
CALSCALE:GREGORIAN
METHOD:PUBLISH
X-ORIGINAL-URL:https://jenamedia.de
X-WR-CALDESC:Veranstaltungen für Nachrichten und Veranstaltungen für Jena | JenaMedia.de ✔︎
REFRESH-INTERVAL;VALUE=DURATION:PT1H
X-Robots-Tag:noindex
X-PUBLISHED-TTL:PT1H
BEGIN:VTIMEZONE
TZID:Europe/Berlin
BEGIN:DAYLIGHT
TZOFFSETFROM:+0100
TZOFFSETTO:+0200
TZNAME:CEST
DTSTART:20250330T010000
END:DAYLIGHT
BEGIN:STANDARD
TZOFFSETFROM:+0200
TZOFFSETTO:+0100
TZNAME:CET
DTSTART:20251026T010000
END:STANDARD
BEGIN:DAYLIGHT
TZOFFSETFROM:+0100
TZOFFSETTO:+0200
TZNAME:CEST
DTSTART:20260329T010000
END:DAYLIGHT
BEGIN:STANDARD
TZOFFSETFROM:+0200
TZOFFSETTO:+0100
TZNAME:CET
DTSTART:20261025T010000
END:STANDARD
BEGIN:DAYLIGHT
TZOFFSETFROM:+0100
TZOFFSETTO:+0200
TZNAME:CEST
DTSTART:20270328T010000
END:DAYLIGHT
BEGIN:STANDARD
TZOFFSETFROM:+0200
TZOFFSETTO:+0100
TZNAME:CET
DTSTART:20271031T010000
END:STANDARD
END:VTIMEZONE
BEGIN:VEVENT
DTSTART;TZID=Europe/Berlin:20261026T160000
DTEND;TZID=Europe/Berlin:20261026T180000
DTSTAMP:20260422T020430
CREATED:20251123T114141Z
LAST-MODIFIED:20260123T211459Z
UID:10001279-1793030400-1793037600@jenamedia.de
SUMMARY:Urban Dance Workshop | Freies Training im Kassa Jena
DESCRIPTION:Urban Dance Workshop im Kassa Jena: Freies Training ab 16 Uhr\nUrban Dance trifft Gemeinschaft und Kreativität\nJeden Montag verwandelt sich das Kassablanca in einen offenen Treffpunkt für Urban Dance. Ab 16:00 Uhr lädt das freie Training im Kassa Jena alle Tanzenden ein\, unabhängig von Erfahrung oder Stilrichtung. Ob Einsteigerin\, erfahrener Streetdancer oder neugieriger Zuschauer\, die Tür steht offen. Der Fokus liegt auf gegenseitigem Lernen\, Austausch und Vernetzung. Die Teilnahme ist kostenlos\, was das Angebot besonders attraktiv für Studierende\, junge Künstlerinnen und Künstler und alle macht\, die Bewegung und Gemeinschaft suchen. \nKonzept und Ablauf des Trainings\nDas Format ist bewusst niedrigschwellig gestaltet. Es gibt keine formalen Kurse\, keine verpflichtenden Anmeldungen und keine Teilnahmegebühren. Stattdessen entsteht eine dynamische Trainingsstruktur\, in der Teilnehmende eigene Warm-ups\, Technik-Übungen und Freestyle-Sessions anbieten können. Abwechselnd werden kleine Jam-Runden\, Partner- oder Gruppenübungen und kurze Showcases eingebaut\, sodass jede und jeder die Möglichkeit hat\, sich auszuprobieren und Feedback zu erhalten. Durch die offene Atmosphäre entwickeln sich oft spontanes Coaching\, kreative Challenges und Collabs\, die weit über das Training hinaus wirken. \nLernen voneinander\, nicht gegeneinander\nEin zentraler Gedanke des Urban Dance Workshops ist das Teilen von Kenntnissen. Erfahrene Tänzerinnen geben Tipps zu Technik\, Muscle Memory und musikalischem Ausdruck\, während Newcomer frische Ideen und neue Perspektiven einbringen. Das schafft eine Kultur des Lernens und der gegenseitigen Unterstützung. Die Sessions leben von Respekt\, konstruktiver Kritik und dem Willen\, gemeinsam besser zu werden. Für viele Teilnehmerinnen und Teilnehmer ist das Kassa-Training deshalb mehr als nur ein Workout. Es ist ein Ort\, um Kontakte zu knüpfen\, Probenpartner zu finden und an gemeinsamen Projekten zu arbeiten. \nFreies Urban Dance Training im Kassablanca Jena. Jeden Montag ab 16 Uhr. Eintritt frei. Lernen\, vernetzen und gemeinsam tanzen in offener Atmosphäre. Illustration Jenafotografx\nStile\, Musik und Atmosphäre\nUrban Dance umfasst ein weites Feld: Hip-Hop\, Locking\, Popping\, House\, Breaking und Contemporary-Elemente finden hier Platz. Die Musik reicht von klassischem Hip-Hop über moderne Beats bis zu experimentellen Tracks. Die Soundauswahl entsteht häufig spontan und richtet sich nach der Stimmung auf der Fläche. Das Kassablanca bietet mit seiner Club-Architektur ideale Bedingungen für intensives Training: gute Akustik\, ausreichend Platz für Cyphers und eine Bühne für kurze Performances. Die Atmosphäre ist energiegeladen und gleichzeitig entspannt\, sodass kreative Risiken gefördert werden. \nWarum das freie Training wichtig für die Szene ist\nSolche offenen Formate sind essenziell für die lokale Tanz- und Kulturszene. Sie bieten eine Plattform für künstlerische Entwicklung außerhalb kommerzieller Strukturen. Junge Talente erhalten hier erste Bühnenmomente\, Choreografien können getestet werden und Tanzkreise vernetzen sich unkompliziert. Für das Kassablanca bedeutet das eine regelmäßige Belebung des Hauses in den Nachmittagsstunden\, für die Stadtgesellschaft ein zugängliches Kulturangebot. Nicht zuletzt stärkt das Treffen den Austausch zwischen unterschiedlichen Generationen und Szenen. \nAnkommen: Kommt einfach vorbei\, eine Anmeldung ist nicht erforderlich. Kleidung: Sportliche\, bequeme Kleidung und rutschfeste Sneaker sind empfehlenswert. Mitbringen: Trinkflasche\, Handtuch und falls vorhanden\, eigene Musik auf einem USB-Stick oder Streaming-Playlisten für spezielle Beats. Pünktlichkeit: Der Einstieg beginnt häufig mit einem gemeinsamen Warm-up. Wer später eintrifft\, kann selbstverständlich noch einsteigen\, sollte aber Rücksicht auf laufende Übungen nehmen. Barrierefreiheit: Bei speziellen Zugangsfragen empfiehlt es sich\, vorab kurz beim Kassa nachzufragen. \nHashtags#UrbanDanceJena #Kassablanca #TanzCommunity
URL:https://jenamedia.de/event/urban-dance-workshop/2026-10-26/
LOCATION:Kassablanca Jena\, Felsenkellerstraße 13a\, Jena\, Thüringen\, 07745\, Germany
CATEGORIES:Veranstaltungen-Jena
ATTACH;FMTTYPE=image/jpeg:https://jenamedia.de/wp-content/uploads/2025/11/urban_dance_workshop-Kopie.jpg
END:VEVENT
BEGIN:VEVENT
DTSTART;TZID=Europe/Berlin:20261031T190000
DTEND;TZID=Europe/Berlin:20261101T020000
DTSTAMP:20260422T020430
CREATED:20251024T210433Z
LAST-MODIFIED:20251024T210541Z
UID:10000036-1793473200-1793498400@jenamedia.de
SUMMARY:19. Jenaer Big Band Ball 2026 – Swing & Tanz im Volkshaus 31.10.2026
DESCRIPTION:Jenaer Big Band Ball am 31.10.2026 – Swing\, Tanz und große Bühne im Volkshaus Jena\nDer Jenaer Big Band Ball kehrt am 31. Oktober 2026 ins Volkshaus Jena zurück und verspricht einen Abend voller Lebensfreude\, tanzbarer Musik und glamouröser Unterhaltung. Die JenaBigBand entführt ihr Publikum mit Esprit\, mitreißender Spielfreude und unverwechselbarem Charme in die musikalische Welt des Swings\, Tangos\, Salsas\, Cha-Chas\, Walzers und vieler weiterer Genres. Ob leidenschaftliche Tänzer*innen oder Gäste\, die einfach die Live-Atmosphäre genießen möchten – dieser Ball ist eine Einladung an alle\, die Musik und Tanz lieben. \nMusikvielfalt\, die begeistert: von Swing bis Salsa\nDie Stärke des Jenaer Big Band Balls liegt in seiner stilistischen Bandbreite. Die JenaBigBand verbindet klassische Big-Band-Sounds mit lateinamerikanischen Rhythmen und eleganten Ballklängen. Das Repertoire reicht von swingenden Standards über temperamentvolle Tangos bis hin zu heißen Salsa-Arrangements und eleganten Walzern – ein musikalischer Abend\, der zu Tanz und guter Laune animiert. Dank der großen stilistischen Vielfalt ist für jede Stimmung etwas dabei: beschwingt\, leidenschaftlich oder romantisch. \nSpektakuläre Tanzshow als Highlight des Abends\nAuch in diesem Jahr dürfen sich die Gäste auf eine spektakuläre Tanzshow freuen. Professionelle Tänzerinnen und Tänzer sorgen für Showeinlagen\, die das Live-Konzerterlebnis visuell ergänzen und besondere Akzente setzen. Die Kombination aus großformatigen Arrangements der Big Band und choreografierten Tanznummern macht den Abend zu einem Fest für Augen und Ohren – ideal für Tanzpaare\, Pausen-Schwinger und alle\, die einfach mitgerissen werden wollen. \nAblauf\, Einlass und Atmosphäre\nDer Einlass beginnt um 19:00 Uhr. Die Platzwahl am Tisch ist frei – wer also in größerer Runde gemütlich sitzen möchte\, sollte früh kommen oder sich einen Tischplatz sichern. Vor Ort werden Getränke und Häppchen angeboten\, sodass für das leibliche Wohl gesorgt ist. Das Publikum des Volkshauses erwartet eine stilvolle\, aber ungezwungene Ballatmosphäre: Tanzfläche\, Swing-Rhythmen und anregende Gespräche bilden gemeinsam einen festlichen Rahmen. \nJenaer Big Band BallFoto: Alexandra Münch\nTickets & Preise – so kommen Sie zum Ball\nTickets sind über die genannten Vorverkaufsstellen erhältlich. Die Preisübersicht: \nTischplatz: VVK 35 € | AK 38 € \nFlanierkarte (kein Tischplatz): VVK 30 € | AK 33 € \nTischplatz & Flanierkarte – Studierende / Schüler / Azubis: VVK & AK 18 € \nTickets erhalten Sie bei der Jena Tourist-Information\, telefonisch unter +49 3641 49-8060 oder per E-Mail an tickets@jena.de. Weitere Informationen finden Sie auf den Seiten des Veranstalters: www.volkshaus-jena.de und der Band www.jenabigband.de. \nVeranstalter und Ort\nVeranstalter des Abends sind JenaKultur und das Volkshaus Jena. Das Volkshaus bietet mit seiner zentralen Lage\, der stimmungsvollen Ballsaal-Atmosphäre und der kulturellen Infrastruktur den idealen Rahmen für den Big Band Ball. Ob als Abendveranstaltung für Stammgäste oder als besonderes Erlebnis für Besucher*innen von außerhalb – das Volkshaus ist gut erreichbar und ein etablierter Veranstaltungsort für große kulturelle Abende in Jena. \nWarum Sie den Jenaer Big Band Ball nicht verpassen sollten\nDer Jenaer Big Band Ball ist mehr als ein Konzert: Er ist ein Treffpunkt für Tanzfreudige\, Musikliebhaber*innen und alle\, die einen besonderen Abend mit Live-Musik suchen. Die Mischung aus erstklassiger Big-Band-Musik\, lateinamerikanischen Rhythmen und einer professionellen Tanzshow macht den Abend abwechslungsreich und unvergesslich. Zudem bietet die Veranstaltung eine schöne Gelegenheit\, lokale Kultur zu erleben und mit Freundinnen\, Kollegen oder der ganzen Familie einen stimmungsvollen Herbstabend zu verbringen. \nPraktische Tipps zum Besuch\nKommen Sie rechtzeitig zum Einlass um 19:00 Uhr\, wenn Sie einen Tischplatz wünschen. \nFlanierkarten sind ideal für Gäste\, die flexibel zwischen Tanzfläche und Sitzbereich wechseln möchten. \nStudierende\, Schüler und Auszubildende erhalten ermäßigte Tickets – Ausweis nicht vergessen. \nGetränke und Häppchen werden vor Ort angeboten; für besondere Ernährungswünsche empfiehlt es sich\, frühzeitig nachzufragen. \nLust auf Swing\, Salsa und glamouröse Tanzshow? Sichern Sie sich Ihre Karten für den Jenaer Big Band Ball am 31.10.2026 im Volkshaus Jena – ein Abend\, der zum Tanzen\, Feiern und Genießen einlädt. Weitere Details: www.jenabigband.de | www.volkshaus-jena.de. \nInfo\, JenaKultur | Foto\, Alexandra Münch | Veranstaltungen im Kalender \nHashtags:#JenaerBigBandBall #VolkshausJena #SwingNight #Tanzshow #LiveMusik #SalsaTango #BigBand #JenaEvents #Tanzabend #KulturJena
URL:https://jenamedia.de/event/19-jenaer-big-band-ball-2026-swing-tanz-im-volkshaus-31-10-2026/
LOCATION:Volkshaus Jena\, Carl-Zeiss-Platz 15\, Jena\, Thüringen\, 07743\, Germany
CATEGORIES:Veranstaltungen-Jena
ATTACH;FMTTYPE=image/jpeg:https://jenamedia.de/wp-content/uploads/2025/10/JBB©Alexandra-Muench.jpg
END:VEVENT
END:VCALENDAR